BEGIN:VCALENDAR
VERSION:2.0
PRODID:-//Eventin//Event Calendar//EN
CALSCALE:GREGORIAN
METHOD:PUBLISH
BEGIN:VEVENT
UID:2a2562da8c0dc24b07f247ae818f5ad5@realitydecoder.com
SUMMARY:Aliens and Demons. Spirit and the Material World.
DESCRIPTION:Please watch Adi's presentation at Truth University if you have
  not done it before. It is a good introduction to most of the topics we wil
 l be discussing:\n\n \n\n\nhttps://www.youtube.com/watch?v=Qxwm3uo-Noc\n\n
 \n \n\n \n\n \n\n 
LOCATION:Online
DTSTAMP:20260420T120802Z
DTSTART:20260423T180000Z
DTEND:20260423T193000Z
END:VEVENT
END:VCALENDAR
